BEGIN:VCALENDAR
VERSION:2.0
PRODID:-//The Abandoned Bar - ECPv6.15.20//NONSGML v1.0//EN
CALSCALE:GREGORIAN
METHOD:PUBLISH
X-WR-CALNAME:The Abandoned Bar
X-ORIGINAL-URL:https://staging.theabandonedbar.com
X-WR-CALDESC:Events for The Abandoned Bar
REFRESH-INTERVAL;VALUE=DURATION:PT1H
X-Robots-Tag:noindex
X-PUBLISHED-TTL:PT1H
BEGIN:VTIMEZONE
TZID:UTC
BEGIN:STANDARD
TZOFFSETFROM:+0000
TZOFFSETTO:+0000
TZNAME:UTC
DTSTART:20240101T000000
END:STANDARD
END:VTIMEZONE
BEGIN:VEVENT
DTSTART;TZID=UTC:20251031T190000
DTEND;TZID=UTC:20251101T020000
DTSTAMP:20260422T200037
CREATED:20250817T212545Z
LAST-MODIFIED:20250817T213507Z
UID:1799-1761937200-1761962400@staging.theabandonedbar.com
SUMMARY:Halloween Party @ The Abandoned Bar
DESCRIPTION:
URL:https://staging.theabandonedbar.com/event/halloween-party-the-abandoned-bar/
LOCATION:Amphitheater @ The Abandoned Bar\, 518 Leeward Hwy\, Grace Bay T\, KCA 1ZZ
END:VEVENT
END:VCALENDAR